Package: PRONE Version: 1.0.2 Command: rm -rf PRONE.buildbin-libdir && mkdir PRONE.buildbin-libdir && F:\biocbuild\bbs-3.20-bioc\R\bin\R.exe CMD INSTALL --build --library=PRONE.buildbin-libdir PRONE_1.0.2.tar.gz StartedAt: 2025-01-31 09:19:16 -0500 (Fri, 31 Jan 2025) EndedAt: 2025-01-31 09:20:36 -0500 (Fri, 31 Jan 2025) EllapsedTime: 80.1 seconds RetCode: 0 Status: OK PackageFile: PRONE_1.0.2.zip PackageFileSize: 6.596 MiB