Package: PRONE Version: 1.0.2 Command: chmod a+r PRONE -R && F:\biocbuild\bbs-3.20-bioc\R\bin\R.exe CMD build --keep-empty-dirs --no-resave-data PRONE StartedAt: 2025-01-30 21:06:47 -0500 (Thu, 30 Jan 2025) EndedAt: 2025-01-30 21:10:27 -0500 (Thu, 30 Jan 2025) EllapsedTime: 219.4 seconds RetCode: 0 Status: OK PackageFile: PRONE_1.0.2.tar.gz PackageFileSize: 6.225 MiB