Package: PRONE Version: 1.0.2 Command: F:\biocbuild\bbs-3.20-bioc\R\bin\R.exe CMD check --no-multiarch --install=check:PRONE.install-out.txt --library=F:\biocbuild\bbs-3.20-bioc\R\library --no-vignettes --timings PRONE_1.0.2.tar.gz StartedAt: 2025-01-31 05:16:43 -0500 (Fri, 31 Jan 2025) EndedAt: 2025-01-31 05:22:55 -0500 (Fri, 31 Jan 2025) EllapsedTime: 371.5 seconds RetCode: 0 Status: OK CheckDir: PRONE.Rcheck Warnings: 0