Package: PRONE Version: 1.0.2 Command: F:\biocbuild\bbs-3.20-bioc\R\bin\R.exe CMD INSTALL PRONE StartedAt: 2025-01-30 16:43:27 -0500 (Thu, 30 Jan 2025) EndedAt: 2025-01-30 16:44:35 -0500 (Thu, 30 Jan 2025) EllapsedTime: 68.2 seconds RetCode: 0 Status: OK