Package: PRONE Version: 1.0.2 Command: /home/biocbuild/R/R/bin/R CMD build --keep-empty-dirs --no-resave-data PRONE StartedAt: 2025-01-31 01:52:27 -0000 (Fri, 31 Jan 2025) EndedAt: 2025-01-31 01:55:12 -0000 (Fri, 31 Jan 2025) EllapsedTime: 165.2 seconds RetCode: 0 Status: OK PackageFile: PRONE_1.0.2.tar.gz PackageFileSize: 6.759 MiB