Package: PRONE Version: 1.0.2 Command: /home/biocbuild/R/R/bin/R CMD INSTALL PRONE StartedAt: 2025-01-30 20:58:23 -0000 (Thu, 30 Jan 2025) EndedAt: 2025-01-30 20:59:10 -0000 (Thu, 30 Jan 2025) EllapsedTime: 47.4 seconds RetCode: 0 Status: OK