Package: PROPER Version: 1.38.0 Command: /home/biocbuild/bbs-3.20-bioc/R/bin/R CMD check --install=check:PROPER.install-out.txt --library=/home/biocbuild/bbs-3.20-bioc/R/site-library --timings PROPER_1.38.0.tar.gz StartedAt: 2025-01-31 01:13:00 -0500 (Fri, 31 Jan 2025) EndedAt: 2025-01-31 01:13:38 -0500 (Fri, 31 Jan 2025) EllapsedTime: 38.0 seconds RetCode: 0 Status: WARNINGS CheckDir: PROPER.Rcheck Warnings: 2