Package: PROPER Version: 1.38.0 Command: chmod a+r PROPER -R && F:\biocbuild\bbs-3.20-bioc\R\bin\R.exe CMD build --keep-empty-dirs --no-resave-data PROPER StartedAt: 2025-01-30 21:06:54 -0500 (Thu, 30 Jan 2025) EndedAt: 2025-01-30 21:07:18 -0500 (Thu, 30 Jan 2025) EllapsedTime: 24.5 seconds RetCode: 0 Status: OK PackageFile: PROPER_1.38.0.tar.gz PackageFileSize: 1.801 MiB