Package: PROPER Version: 1.38.0 Command: /home/biocbuild/R/R/bin/R CMD check --install=check:PROPER.install-out.txt --library=/home/biocbuild/R/R/site-library --no-vignettes --timings PROPER_1.38.0.tar.gz StartedAt: 2025-01-31 09:19:03 -0000 (Fri, 31 Jan 2025) EndedAt: 2025-01-31 09:19:44 -0000 (Fri, 31 Jan 2025) EllapsedTime: 41.0 seconds RetCode: 0 Status: WARNINGS CheckDir: PROPER.Rcheck Warnings: 2