Package: PROPS Version: 1.28.0 Command: rm -rf PROPS.buildbin-libdir && mkdir PROPS.buildbin-libdir && /Users/biocbuild/BBS/utils/build-universal.sh PROPS_1.28.0.tar.gz /Library/Frameworks/R.framework/Resources/bin/R PROPS.buildbin-libdir StartedAt: 2025-02-05 17:12:33 -0500 (Wed, 05 Feb 2025) EndedAt: 2025-02-05 17:12:59 -0500 (Wed, 05 Feb 2025) EllapsedTime: 26.1 seconds RetCode: 0 Status: OK PackageFile: PROPS_1.28.0.tgz PackageFileSize: 3.603 MiB