Package: PROPS Version: 1.28.0 Command: /Library/Frameworks/R.framework/Resources/bin/R CMD check --install=check:PROPS.install-out.txt --library=/Library/Frameworks/R.framework/Resources/library --no-vignettes --timings PROPS_1.28.0.tar.gz StartedAt: 2025-02-04 08:18:15 -0500 (Tue, 04 Feb 2025) EndedAt: 2025-02-04 08:28:58 -0500 (Tue, 04 Feb 2025) EllapsedTime: 643.4 seconds RetCode: 0 Status: OK CheckDir: PROPS.Rcheck Warnings: 0