Package: PROPS Version: 1.28.0 Command: /home/biocbuild/bbs-3.20-bioc/R/bin/R CMD check --install=check:PROPS.install-out.txt --library=/home/biocbuild/bbs-3.20-bioc/R/site-library --timings PROPS_1.28.0.tar.gz StartedAt: 2025-02-04 01:23:40 -0500 (Tue, 04 Feb 2025) EndedAt: 2025-02-04 01:30:41 -0500 (Tue, 04 Feb 2025) EllapsedTime: 420.4 seconds RetCode: 0 Status: OK CheckDir: PROPS.Rcheck Warnings: 0