Package: PROPS Version: 1.28.0 Command: /home/biocbuild/R/R/bin/R CMD build --keep-empty-dirs --no-resave-data PROPS StartedAt: 2025-02-04 01:57:43 -0000 (Tue, 04 Feb 2025) EndedAt: 2025-02-04 02:01:25 -0000 (Tue, 04 Feb 2025) EllapsedTime: 222.2 seconds RetCode: 0 Status: OK PackageFile: PROPS_1.28.0.tar.gz PackageFileSize: 3.586 MiB