Package: PROPS Version: 1.28.0 Command: /home/biocbuild/R/R/bin/R CMD check --install=check:PROPS.install-out.txt --library=/home/biocbuild/R/R/site-library --no-vignettes --timings PROPS_1.28.0.tar.gz StartedAt: 2025-02-04 10:02:58 -0000 (Tue, 04 Feb 2025) EndedAt: 2025-02-04 10:08:53 -0000 (Tue, 04 Feb 2025) EllapsedTime: 354.5 seconds RetCode: 0 Status: OK CheckDir: PROPS.Rcheck Warnings: 0