Package: PROPS Version: 1.28.0 Command: /home/biocbuild/R/R/bin/R CMD INSTALL PROPS StartedAt: 2025-02-03 21:06:13 -0000 (Mon, 03 Feb 2025) EndedAt: 2025-02-03 21:06:37 -0000 (Mon, 03 Feb 2025) EllapsedTime: 24.7 seconds RetCode: 0 Status: OK