Package: PSMatch
Version: 1.10.0
Command: /Library/Frameworks/R.framework/Resources/bin/R CMD build --keep-empty-dirs --no-resave-data PSMatch
StartedAt: 2024-11-19 18:13:34 -0500 (Tue, 19 Nov 2024)
EndedAt: 2024-11-19 18:15:22 -0500 (Tue, 19 Nov 2024)
EllapsedTime: 108.4 seconds
RetCode: 0
Status: OK
PackageFile: PSMatch_1.10.0.tar.gz
PackageFileSize: 1.428 <A href="http://en.wikipedia.org/wiki/MiB" target="_blank">MiB</A>