Package: PSMatch
Version: 1.10.0
Command: /Library/Frameworks/R.framework/Resources/bin/R CMD INSTALL PSMatch
StartedAt: 2025-02-17 15:58:24 -0500 (Mon, 17 Feb 2025)
EndedAt: 2025-02-17 15:59:27 -0500 (Mon, 17 Feb 2025)
EllapsedTime: 62.6 seconds
RetCode: 0
Status: OK