Package: PSMatch Version: 1.10.0 Command: /home/biocbuild/bbs-3.20-bioc/R/bin/R CMD check --install=check:PSMatch.install-out.txt --library=/home/biocbuild/bbs-3.20-bioc/R/site-library --timings PSMatch_1.10.0.tar.gz StartedAt: 2025-02-04 01:25:34 -0500 (Tue, 04 Feb 2025) EndedAt: 2025-02-04 01:30:46 -0500 (Tue, 04 Feb 2025) EllapsedTime: 312.3 seconds RetCode: 0 Status: OK CheckDir: PSMatch.Rcheck Warnings: 0