Package: PSMatch
Version: 1.9.0
Command: C:\Users\biocbuild\bbs-3.20-bioc\R\bin\R.exe CMD check --no-multiarch --install=check:PSMatch.install-out.txt --library=C:\Users\biocbuild\bbs-3.20-bioc\R\library --no-vignettes --timings PSMatch_1.9.0.tar.gz
StartedAt: 2024-07-16 02:56:39 -0400 (Tue, 16 Jul 2024)
EndedAt: 2024-07-16 03:00:34 -0400 (Tue, 16 Jul 2024)
EllapsedTime: 234.8 seconds
RetCode: 0
Status: OK
CheckDir: PSMatch.Rcheck
Warnings: 0