Package: PSMatch Version: 1.10.0 Command: /home/biocbuild/R/R/bin/R CMD build --keep-empty-dirs --no-resave-data PSMatch StartedAt: 2025-02-04 01:58:30 -0000 (Tue, 04 Feb 2025) EndedAt: 2025-02-04 02:00:22 -0000 (Tue, 04 Feb 2025) EllapsedTime: 112.1 seconds RetCode: 0 Status: OK PackageFile: PSMatch_1.10.0.tar.gz PackageFileSize: 1.306 MiB