Package: PWMEnrich Version: 4.42.0 Command: /home/biocbuild/bbs-3.20-bioc/R/bin/R CMD check --install=check:PWMEnrich.install-out.txt --library=/home/biocbuild/bbs-3.20-bioc/R/site-library --timings PWMEnrich_4.42.0.tar.gz StartedAt: 2025-02-04 01:27:18 -0500 (Tue, 04 Feb 2025) EndedAt: 2025-02-04 01:29:48 -0500 (Tue, 04 Feb 2025) EllapsedTime: 150.1 seconds RetCode: 0 Status: OK CheckDir: PWMEnrich.Rcheck Warnings: 0