Package: PWMEnrich Version: 4.42.0 Command: /home/biocbuild/R/R/bin/R CMD build --keep-empty-dirs --no-resave-data PWMEnrich StartedAt: 2025-02-04 01:59:53 -0000 (Tue, 04 Feb 2025) EndedAt: 2025-02-04 02:01:30 -0000 (Tue, 04 Feb 2025) EllapsedTime: 97.1 seconds RetCode: 0 Status: OK PackageFile: PWMEnrich_4.42.0.tar.gz PackageFileSize: 1.561 MiB