Package: PanViz
Version: 1.8.0
Command: /Library/Frameworks/R.framework/Resources/bin/R CMD build --keep-empty-dirs --no-resave-data PanViz
StartedAt: 2024-11-19 18:03:42 -0500 (Tue, 19 Nov 2024)
EndedAt: 2024-11-19 18:04:20 -0500 (Tue, 19 Nov 2024)
EllapsedTime: 38.2 seconds
RetCode: 1
Status: ERROR
PackageFile: None
PackageFileSize: NA