Package: PanViz Version: 1.8.0 Command: /Library/Frameworks/R.framework/Resources/bin/R CMD INSTALL PanViz StartedAt: 2025-02-03 15:32:24 -0500 (Mon, 03 Feb 2025) EndedAt: 2025-02-03 15:32:31 -0500 (Mon, 03 Feb 2025) EllapsedTime: 7.7 seconds RetCode: 0 Status: OK