Package: PanViz Version: 1.8.0 Command: /home/biocbuild/bbs-3.20-bioc/R/bin/R CMD INSTALL PanViz StartedAt: 2025-02-03 15:27:00 -0500 (Mon, 03 Feb 2025) EndedAt: 2025-02-03 15:27:05 -0500 (Mon, 03 Feb 2025) EllapsedTime: 4.7 seconds RetCode: 0 Status: OK