Package: PanViz
Version: 1.7.0
Command: rm -rf PanViz.buildbin-libdir && mkdir PanViz.buildbin-libdir && F:\biocbuild\bbs-3.20-bioc\R\bin\R.exe CMD INSTALL --build --library=PanViz.buildbin-libdir PanViz_1.7.0.tar.gz
StartedAt: 2024-10-19 07:57:26 -0400 (Sat, 19 Oct 2024)
EndedAt: 2024-10-19 07:58:30 -0400 (Sat, 19 Oct 2024)
EllapsedTime: 63.8 seconds
RetCode: 0
Status: OK
PackageFile: PanViz_1.7.0.zip
PackageFileSize: 1.767 <A href="http://en.wikipedia.org/wiki/MiB" target="_blank">MiB</A>