Package: PanViz
Version: 1.8.0
Command: /home/biocbuild/R/R/bin/R CMD INSTALL PanViz
StartedAt: 2025-02-17 20:32:34 -0000 (Mon, 17 Feb 2025)
EndedAt: 2025-02-17 20:32:38 -0000 (Mon, 17 Feb 2025)
EllapsedTime: 4.4 seconds
RetCode: 0
Status: OK