Package: PanomiR Version: 1.10.0 Command: /Library/Frameworks/R.framework/Resources/bin/R CMD build --keep-empty-dirs --no-resave-data PanomiR StartedAt: 2025-02-04 05:16:57 -0500 (Tue, 04 Feb 2025) EndedAt: 2025-02-04 05:17:23 -0500 (Tue, 04 Feb 2025) EllapsedTime: 26.0 seconds RetCode: 0 Status: OK PackageFile: PanomiR_1.10.0.tar.gz PackageFileSize: 1.98 MiB