Package: PanomiR Version: 1.10.0 Command: /Library/Frameworks/R.framework/Resources/bin/R CMD check --install=check:PanomiR.install-out.txt --library=/Library/Frameworks/R.framework/Resources/library --no-vignettes --timings PanomiR_1.10.0.tar.gz StartedAt: 2025-02-04 07:44:47 -0500 (Tue, 04 Feb 2025) EndedAt: 2025-02-04 07:47:23 -0500 (Tue, 04 Feb 2025) EllapsedTime: 156.2 seconds RetCode: 0 Status: OK CheckDir: PanomiR.Rcheck Warnings: 0