Package: PanomiR Version: 1.10.0 Command: /home/biocbuild/bbs-3.20-bioc/R/bin/R CMD build --keep-empty-dirs --no-resave-data --md5 PanomiR StartedAt: 2025-02-03 18:39:34 -0500 (Mon, 03 Feb 2025) EndedAt: 2025-02-03 18:40:01 -0500 (Mon, 03 Feb 2025) EllapsedTime: 27.1 seconds RetCode: 0 Status: OK PackageFile: PanomiR_1.10.0.tar.gz PackageFileSize: 1.982 MiB