Package: PanomiR Version: 1.10.0 Command: /home/biocbuild/bbs-3.20-bioc/R/bin/R CMD check --install=check:PanomiR.install-out.txt --library=/home/biocbuild/bbs-3.20-bioc/R/site-library --timings PanomiR_1.10.0.tar.gz StartedAt: 2025-01-31 00:53:43 -0500 (Fri, 31 Jan 2025) EndedAt: 2025-01-31 00:54:57 -0500 (Fri, 31 Jan 2025) EllapsedTime: 74.1 seconds RetCode: 0 Status: OK CheckDir: PanomiR.Rcheck Warnings: 0