Package: PanomiR Version: 1.10.0 Command: rm -rf PanomiR.buildbin-libdir && mkdir PanomiR.buildbin-libdir && F:\biocbuild\bbs-3.20-bioc\R\bin\R.exe CMD INSTALL --build --library=PanomiR.buildbin-libdir PanomiR_1.10.0.tar.gz StartedAt: 2025-01-31 09:14:57 -0500 (Fri, 31 Jan 2025) EndedAt: 2025-01-31 09:15:15 -0500 (Fri, 31 Jan 2025) EllapsedTime: 17.2 seconds RetCode: 0 Status: OK PackageFile: PanomiR_1.10.0.zip PackageFileSize: 2.071 MiB