Package: PanomiR Version: 1.10.0 Command: chmod a+r PanomiR -R && F:\biocbuild\bbs-3.20-bioc\R\bin\R.exe CMD build --keep-empty-dirs --no-resave-data PanomiR StartedAt: 2025-02-03 21:04:47 -0500 (Mon, 03 Feb 2025) EndedAt: 2025-02-03 21:05:40 -0500 (Mon, 03 Feb 2025) EllapsedTime: 53.1 seconds RetCode: 0 Status: OK PackageFile: PanomiR_1.10.0.tar.gz PackageFileSize: 1.98 MiB