Package: PanomiR Version: 1.10.0 Command: F:\biocbuild\bbs-3.20-bioc\R\bin\R.exe CMD INSTALL PanomiR StartedAt: 2025-01-30 16:37:07 -0500 (Thu, 30 Jan 2025) EndedAt: 2025-01-30 16:37:23 -0500 (Thu, 30 Jan 2025) EllapsedTime: 16.1 seconds RetCode: 0 Status: OK