Package: PanomiR Version: 1.10.0 Command: /home/biocbuild/R/R/bin/R CMD build --keep-empty-dirs --no-resave-data PanomiR StartedAt: 2025-01-31 01:39:51 -0000 (Fri, 31 Jan 2025) EndedAt: 2025-01-31 01:40:28 -0000 (Fri, 31 Jan 2025) EllapsedTime: 37.1 seconds RetCode: 0 Status: OK PackageFile: PanomiR_1.10.0.tar.gz PackageFileSize: 2.005 MiB