Package: Path2PPI Version: 1.36.0 Command: rm -rf Path2PPI.buildbin-libdir && mkdir Path2PPI.buildbin-libdir && /Users/biocbuild/BBS/utils/build-universal.sh Path2PPI_1.36.0.tar.gz /Library/Frameworks/R.framework/Resources/bin/R Path2PPI.buildbin-libdir StartedAt: 2025-02-05 17:04:51 -0500 (Wed, 05 Feb 2025) EndedAt: 2025-02-05 17:04:59 -0500 (Wed, 05 Feb 2025) EllapsedTime: 7.9 seconds RetCode: 0 Status: OK PackageFile: Path2PPI_1.36.0.tgz PackageFileSize: 1.346 MiB