Package: Path2PPI Version: 1.36.0 Command: /Library/Frameworks/R.framework/Resources/bin/R CMD build --keep-empty-dirs --no-resave-data Path2PPI StartedAt: 2025-02-03 21:09:56 -0500 (Mon, 03 Feb 2025) EndedAt: 2025-02-03 21:10:39 -0500 (Mon, 03 Feb 2025) EllapsedTime: 43.3 seconds RetCode: 0 Status: OK PackageFile: Path2PPI_1.36.0.tar.gz PackageFileSize: 1.443 MiB