Package: Path2PPI Version: 1.36.0 Command: /home/biocbuild/bbs-3.20-bioc/R/bin/R CMD check --install=check:Path2PPI.install-out.txt --library=/home/biocbuild/bbs-3.20-bioc/R/site-library --timings Path2PPI_1.36.0.tar.gz StartedAt: 2025-02-04 01:04:57 -0500 (Tue, 04 Feb 2025) EndedAt: 2025-02-04 01:06:06 -0500 (Tue, 04 Feb 2025) EllapsedTime: 69.2 seconds RetCode: 0 Status: OK CheckDir: Path2PPI.Rcheck Warnings: 0