Package: PathNet
Version: 1.46.0
Command: /home/biocbuild/R/R/bin/R CMD check --install=check:PathNet.install-out.txt --library=/home/biocbuild/R/R/site-library --no-vignettes --timings PathNet_1.46.0.tar.gz
StartedAt: 2024-11-20 10:52:16 -0000 (Wed, 20 Nov 2024)
EndedAt: 2024-11-20 10:53:22 -0000 (Wed, 20 Nov 2024)
EllapsedTime: 66.1 seconds
RetCode: 0
Status: OK
CheckDir: PathNet.Rcheck
Warnings: 0