Package: PathNet Version: 1.46.0 Command: /Library/Frameworks/R.framework/Resources/bin/R CMD build --keep-empty-dirs --no-resave-data PathNet StartedAt: 2025-02-03 21:10:30 -0500 (Mon, 03 Feb 2025) EndedAt: 2025-02-03 21:12:35 -0500 (Mon, 03 Feb 2025) EllapsedTime: 124.9 seconds RetCode: 0 Status: OK PackageFile: PathNet_1.46.0.tar.gz PackageFileSize: 823.9 KiB