Package: PathNet Version: 1.46.0 Command: /home/biocbuild/bbs-3.20-bioc/R/bin/R CMD build --keep-empty-dirs --no-resave-data --md5 PathNet StartedAt: 2025-02-03 18:40:48 -0500 (Mon, 03 Feb 2025) EndedAt: 2025-02-03 18:41:48 -0500 (Mon, 03 Feb 2025) EllapsedTime: 60.1 seconds RetCode: 0 Status: OK PackageFile: PathNet_1.46.0.tar.gz PackageFileSize: 824.7 KiB