Package: PathNet Version: 1.46.0 Command: /home/biocbuild/bbs-3.20-bioc/R/bin/R CMD check --install=check:PathNet.install-out.txt --library=/home/biocbuild/bbs-3.20-bioc/R/site-library --timings PathNet_1.46.0.tar.gz StartedAt: 2025-02-04 01:05:08 -0500 (Tue, 04 Feb 2025) EndedAt: 2025-02-04 01:07:11 -0500 (Tue, 04 Feb 2025) EllapsedTime: 123.2 seconds RetCode: 0 Status: OK CheckDir: PathNet.Rcheck Warnings: 0