Package: PathNet Version: 1.46.0 Command: /home/biocbuild/bbs-3.20-bioc/R/bin/R CMD INSTALL PathNet StartedAt: 2025-02-03 15:15:38 -0500 (Mon, 03 Feb 2025) EndedAt: 2025-02-03 15:15:43 -0500 (Mon, 03 Feb 2025) EllapsedTime: 5.5 seconds RetCode: 0 Status: OK