Package: PathNet Version: 1.46.0 Command: rm -rf PathNet.buildbin-libdir && mkdir PathNet.buildbin-libdir && F:\biocbuild\bbs-3.20-bioc\R\bin\R.exe CMD INSTALL --build --library=PathNet.buildbin-libdir PathNet_1.46.0.tar.gz StartedAt: 2025-02-04 09:08:54 -0500 (Tue, 04 Feb 2025) EndedAt: 2025-02-04 09:09:01 -0500 (Tue, 04 Feb 2025) EllapsedTime: 6.9 seconds RetCode: 0 Status: OK PackageFile: PathNet_1.46.0.zip PackageFileSize: 233.2 KiB