Package: PathNet Version: 1.46.0 Command: chmod a+r PathNet -R && F:\biocbuild\bbs-3.20-bioc\R\bin\R.exe CMD build --keep-empty-dirs --no-resave-data PathNet StartedAt: 2025-02-03 21:06:25 -0500 (Mon, 03 Feb 2025) EndedAt: 2025-02-03 21:07:40 -0500 (Mon, 03 Feb 2025) EllapsedTime: 74.2 seconds RetCode: 0 Status: OK PackageFile: PathNet_1.46.0.tar.gz PackageFileSize: 720 KiB