Package: PathNet Version: 1.46.0 Command: F:\biocbuild\bbs-3.20-bioc\R\bin\R.exe CMD INSTALL PathNet StartedAt: 2025-02-03 15:34:41 -0500 (Mon, 03 Feb 2025) EndedAt: 2025-02-03 15:34:49 -0500 (Mon, 03 Feb 2025) EllapsedTime: 8.1 seconds RetCode: 0 Status: OK