Package: PathNet Version: 1.46.0 Command: /home/biocbuild/R/R/bin/R CMD INSTALL PathNet StartedAt: 2025-02-03 20:24:16 -0000 (Mon, 03 Feb 2025) EndedAt: 2025-02-03 20:24:30 -0000 (Mon, 03 Feb 2025) EllapsedTime: 13.7 seconds RetCode: 0 Status: OK