Package: PathNet
Version: 1.46.0
Command: /home/biocbuild/bbs-3.20-bioc/R/bin/R CMD INSTALL PathNet
StartedAt: 2024-11-19 15:21:14 -0500 (Tue, 19 Nov 2024)
EndedAt: 2024-11-19 15:21:15 -0500 (Tue, 19 Nov 2024)
EllapsedTime: 1.8 seconds
RetCode: 0
Status: OK