Package: PathoStat
Version: 1.32.0
Command: /Library/Frameworks/R.framework/Resources/bin/R CMD check --install=check:PathoStat.install-out.txt --library=/Library/Frameworks/R.framework/Resources/library --no-vignettes --timings PathoStat_1.32.0.tar.gz
StartedAt: 2025-02-18 07:14:56 -0500 (Tue, 18 Feb 2025)
EndedAt: 2025-02-18 07:24:26 -0500 (Tue, 18 Feb 2025)
EllapsedTime: 570.6 seconds
RetCode: 0
Status: OK
CheckDir: PathoStat.Rcheck
Warnings: 0