Package: PathoStat Version: 1.32.0 Command: F:\biocbuild\bbs-3.20-bioc\R\bin\R.exe CMD check --no-multiarch --install=check:PathoStat.install-out.txt --library=F:\biocbuild\bbs-3.20-bioc\R\library --no-vignettes --timings PathoStat_1.32.0.tar.gz StartedAt: 2025-02-04 04:45:14 -0500 (Tue, 04 Feb 2025) EndedAt: 2025-02-04 04:50:52 -0500 (Tue, 04 Feb 2025) EllapsedTime: 337.9 seconds RetCode: 0 Status: OK CheckDir: PathoStat.Rcheck Warnings: 0